BEGIN:VCALENDAR
VERSION:2.0
PRODID:-//I3 Program - ECPv5.0.2.1//NONSGML v1.0//EN
CALSCALE:GREGORIAN
METHOD:PUBLISH
X-WR-CALNAME:I3 Program
X-ORIGINAL-URL:https://i3program.org
X-WR-CALDESC:Events for I3 Program
BEGIN:VTIMEZONE
TZID:UTC
BEGIN:STANDARD
TZOFFSETFROM:+0000
TZOFFSETTO:+0000
TZNAME:UTC
DTSTART:20190101T000000
END:STANDARD
END:VTIMEZONE
BEGIN:VEVENT
DTSTART;TZID=UTC:20190505T080000
DTEND;TZID=UTC:20190516T170000
DTSTAMP:20260421T170241
CREATED:20191108T111539Z
LAST-MODIFIED:20191108T111659Z
UID:10758-1557043200-1558026000@i3program.org
SUMMARY:China-Singapore Fintech Expo
DESCRIPTION:UNCDF appeared at the China-Singapore Fintech Expo\, speaking on the topic of financial inclusion in China and appearing in a booth. This event gathered global financial institutions\, consulting institutions\, Fintechs and investment institutions\, Sino-Singapore (Suzhou) Fintech Expo to focus on cutting-edge technology trends\, Fintechs & Startups\, regulations and the future of banking. \n
URL:https://i3program.org/event/china-singapore-fintech-expo/
LOCATION:Suzhou\, China
CATEGORIES:China
ATTACH;FMTTYPE=image/jpeg:https://i3program.org/wp-content/uploads/2019/11/i3-launch-china.jpg
END:VEVENT
BEGIN:VEVENT
DTSTART;TZID=UTC:20190508T080000
DTEND;TZID=UTC:20190508T170000
DTSTAMP:20260421T170241
CREATED:20191108T111605Z
LAST-MODIFIED:20191108T111605Z
UID:10748-1557302400-1557334800@i3program.org
SUMMARY:I3 Program China Launch
DESCRIPTION:UNCDF hosted a workshop in Beijing to launch the i3 Program in China. Organized in partnership with the United Nations Development Programme (UNDP) and the China International Center for Economic and Technical Exchanges (CICETE)\, the workshop brought together about 70 participants from Asia and Africa\, explored  China’s experience using digital technologies to advance development and the possible applicability of those experiences to their own countries’ contexts.  \nThe new initiative\, developed in partnership with CICETE and UNDP China\, aims to broaden the impact of financial inclusion to the “last mile.” It will leverage more than 130 UNCDF partnerships with financial service providers\, partnerships whose combined impact to date has been to connect more than 18 million people to digital financial services in Africa\, Asia and the Pacific. \n
URL:https://i3program.org/event/i3-program-china-launch/
LOCATION:Beijing\, China
CATEGORIES:China
ATTACH;FMTTYPE=image/jpeg:https://i3program.org/wp-content/uploads/2019/11/china-launch.jpg
END:VEVENT
END:VCALENDAR